BEGIN:VCALENDAR
VERSION:2.0
PRODID:-//eventon.com NONSGML v1.0//EN
CALSCALE:GREGORIAN
METHOD:PUBLISH
BEGIN:VEVENT
UID:69e8ede350be0
DTSTAMP:20260422T154851Z
DTSTART:20260502T120000Z
DTEND:20260502T150000Z
LOCATION:Southside Cultural Arts Center 701 S Andrews Ave\,  Fort Lauderdale\,  FL 33316
SUMMARY:Studio 701 Open House - Summer Season Preview
DESCRIPTION:Join us for a fun-filled day for the entire family! Explore the
  programs at South Side Cultural Arts Center and get a sneak peek at whatâ€
 ™s coming. Highlights include arts and crafts\,  cooking demonstrations\,  
 karate demonstrations\,  and a Mexican dance class exhibition. Thereâ€™s so
 mething for everyone. Donâ€™t miss it! Open[..]\nhttps://southfloridafamily
 life.com/events/studio-701-open-house-summer-season-preview/
URL:https://southfloridafamilylife.com/events/studio-701-open-house-summer-season-preview/
END:VEVENT
END:VCALENDAR