BEGIN:VCALENDAR
VERSION:2.0
PRODID:-//eventon.com NONSGML v1.0//EN
CALSCALE:GREGORIAN
METHOD:PUBLISH
BEGIN:VEVENT
UID:69e74f40e50a2
DTSTAMP:20260421T101944Z
DTSTART:20260425T103000Z
DTEND:20260425T143000Z
LOCATION:Deering Estate 16701 SW 72 AVE Palmetto Bay \,  FL 33157
SUMMARY:Lighthouses of Biscayne Bay Cruise
DESCRIPTION:Departing from the Deering Estate on a comfortable riding 45-fo
 ot Corinthian catamaran\,  this four-hour tour will allow you to experience
  Biscayne National Park in a new light! After departing from Deering Estate
 \,  a Biscayne National Park Ranger guides you on a journey through Biscayn
 e Bay to see the iconic Cape[..]\nhttps://southfloridafamilylife.com/events
 /lighthouses-of-biscayne-bay-cruise/var/ri-1.l-L1
URL:https://southfloridafamilylife.com/events/lighthouses-of-biscayne-bay-cruise/var/ri-1.l-L1
END:VEVENT
END:VCALENDAR